BEGIN:VCALENDAR
VERSION:2.0
BEGIN:VEVENT
URL:https://www.dailyinfo.co.uk/events/291675/how-antibodies-fight-infection-from-inside-our-cells
DTSTART;VALUE=DATE:20260504
DESCRIPTION:"How antibodies fight infection from inside our cells"\n\n\nIn my talk, I will discuss our recent work uncovering how this remarkable system of intracellular antibody immunity works and how we are exploiting our understanding to design new therapeutics for the treatment of diverse diseases from infection to neurodegeneration. 4 - 5pm £100/£85 for Full Festival Pass; £25/£20 for evening concerts; £15/£12 for daytime concerts; £3/£2 for lectures
SUMMARY;LANGUAGE=en-gb:"How antibodies fight infection from inside our cells"
LOCATION:St John's Garden Quadrangle Auditorium, St John's College, St Giles OX1 3JP
END:VEVENT
END:VCALENDAR
