BEGIN:VCALENDAR
VERSION:2.0
BEGIN:VEVENT
URL:https://www.dailyinfo.co.uk/events/291683/concert-5-the-seasons
DTSTART;VALUE=DATE:20260504
DESCRIPTION:Concert 5:The Seasons\n\n\nPeter Tchaikovsky - 'The Seasons', Op. 37a Elena Langer - 'Seasons'Katya Apekisheva - piano. Katya intertwines one of Tchaikovsky’s most charming compositions with a new work, premiered in 2025, by Elena Langer. Langer’s 'Seasons' is inspired by the poetry of Philip Larkin. 11am - 12pm £100/£85 for Full Festival Pass; £25/£20 for evening concerts; £15/£12 for daytime concerts; £3/£2 for lectures
SUMMARY;LANGUAGE=en-gb:Concert 5:The Seasons
LOCATION:St John's Garden Quadrangle Auditorium, St John's College, St Giles OX1 3JP
END:VEVENT
END:VCALENDAR
