BEGIN:VCALENDAR
VERSION:2.0
BEGIN:VEVENT
URL:https://www.dailyinfo.co.uk/events/291684/concert-6-barber-and-brahms
DTSTART;VALUE=DATE:20260504
DESCRIPTION:Concert 6: Barber and Brahms\n\n\nSamuel Barber - Adagio for string quartet, Op. 11 Johannes Brahms - String Sextet No. 1 in B-flat major, Op. 18Jack Liebeck - violin Joshua Fisher - violin Ben Roskams - viola Sarah-Jane Bradley - viola Thomas Carroll - cello Geirþrúður Anna Guðmundsdóttir – cello 2 - 3pm £100/£85 for Full Festival Pass; £25/£20 for evening concerts; £15/£12 for daytime concerts; £3/£2 for lectures
SUMMARY;LANGUAGE=en-gb:Concert 6: Barber and Brahms
LOCATION:St John's Garden Quadrangle Auditorium, St John's College, St Giles OX1 3JP
END:VEVENT
END:VCALENDAR
