BEGIN:VCALENDAR
VERSION:2.0
BEGIN:VEVENT
URL:https://www.dailyinfo.co.uk/events/291685/concert-7-wagner-s-ring-for-people-who-can-t-be-bothered-to-sit-through-it
DTSTART;VALUE=DATE:20260504
DESCRIPTION:Concert 7: Wagner’s Ring for people who can’t be bothered to sit through it\n\n\nRainer Hersch is on a mission to change that. With the aid of no more than a piano, a funny slide show and his own wit (see below), he is going to boil the whole wobbling edifice of Richard Wagner’s TotalArtWork down to just 60 minutes 6 - 8.30pm £100/£85 for Full Festival Pass; £25/£20 for evening concerts; £15/£12 for daytime concerts; £3/£2 for lectures
SUMMARY;LANGUAGE=en-gb:Concert 7: Wagner’s Ring for people who can’t be bothered to sit through it
LOCATION:St John's Garden Quadrangle Auditorium, St John's College, St Giles OX1 3JP
END:VEVENT
END:VCALENDAR
