BEGIN:VCALENDAR
VERSION:2.0
BEGIN:VEVENT
URL:https://www.dailyinfo.co.uk/events/293553/morris-dancing-and-singing
DTSTART;VALUE=DATE:20260504
DESCRIPTION:Morris Dancing & Singing\n\n\nEynsham Morris will be performing their traditional first Day of Dance throughout the Vilage. 11.00am until late Free
SUMMARY;LANGUAGE=en-gb:Morris Dancing & Singing
LOCATION:Red Lion (Eynsham), The Square, Eynsham OX29 4HW
END:VEVENT
END:VCALENDAR
