BEGIN:VCALENDAR
VERSION:2.0
BEGIN:VEVENT
URL:https://www.dailyinfo.co.uk/events/289799/oxford-gospel-choir-come-sing-with-us
DTSTART;VALUE=DATE:20260505
DESCRIPTION:Oxford Gospel Choir - Come Sing with Us!\n\n\nWe’re back! Sing joyful, soulful tunes with Oxford Gospel Choir – welcoming, inclusive, first 2 sess 7.30-9.30pm £7 (first two sessions free)
SUMMARY;LANGUAGE=en-gb:Oxford Gospel Choir - Come Sing with Us!
LOCATION:New Road Baptist Church, Bonn Square, Oxford OX1 1LQ
END:VEVENT
END:VCALENDAR
