BEGIN:VCALENDAR
VERSION:2.0
BEGIN:VEVENT
URL:https://www.dailyinfo.co.uk/events/291159/nubiyan-twist
DTSTART;VALUE=DATE:20260505
DESCRIPTION:Nubiyan Twist\n\n\nDub, afrobeat and hip-hop 12-piece ensemble 7.00pm £29.90
SUMMARY;LANGUAGE=en-gb:Nubiyan Twist
LOCATION:O2 Academy Oxford, 190 Cowley Road, Oxford OX4 1UE
END:VEVENT
END:VCALENDAR
