BEGIN:VCALENDAR
VERSION:2.0
BEGIN:VEVENT
URL:https://www.dailyinfo.co.uk/events/293101/in-conversation-with-cynthia-erivo
DTSTART;VALUE=DATE:20260505
DESCRIPTION:In Conversation with Cynthia Erivo\n\n\nCynthia Erivo MBE joins Dr Stacy L. Smith (USC) to explore life lessons and embracing authenticity. 1.30pm Ticket prices vary
SUMMARY;LANGUAGE=en-gb:In Conversation with Cynthia Erivo
LOCATION:Schwarzman Centre for the Humanities, Radcliffe Observatory Quarter, Woodstock Road, Oxford OX2 6GG
END:VEVENT
END:VCALENDAR
