BEGIN:VCALENDAR
VERSION:2.0
BEGIN:VEVENT
URL:https://www.dailyinfo.co.uk/events/293627/free-piano-recital-simone-tavoni
DTSTART;VALUE=DATE:20260505
DESCRIPTION:Free Piano Recital: Simone Tavoni\n\n\nAcclaimed Italian pianist Simone Tavoni interprets works by De Falla, Satie, and Scriabin. 1.10-2.00pm Free
SUMMARY;LANGUAGE=en-gb:Free Piano Recital: Simone Tavoni
LOCATION:Wesley Memorial Church, New Inn Hall Street, Oxford OX1 2DH
END:VEVENT
END:VCALENDAR
