BEGIN:VCALENDAR
VERSION:2.0
BEGIN:VEVENT
URL:https://www.dailyinfo.co.uk/events/289012/manja-scott-and-jeff-clarke-creative-contrasts
DTSTART;VALUE=DATE:20260506
DESCRIPTION:Manja Scott & Jeff Clarke: Creative Contrasts\n\n\nThis show celebrates a long friendship between artists who appreciate each other’s visual language. 10am-4pm Free
SUMMARY;LANGUAGE=en-gb:Manja Scott & Jeff Clarke: Creative Contrasts
LOCATION:North Wall Arts Centre, South Parade, Oxford OX2 7NN
END:VEVENT
END:VCALENDAR
