BEGIN:VCALENDAR
VERSION:2.0
BEGIN:VEVENT
URL:https://www.dailyinfo.co.uk/events/291541/leo-middea
DTSTART;VALUE=DATE:20260506
DESCRIPTION:Leo Middea\n\n\nBrazilian singer-songwriter on European tour promoting new album 'Notícias de Puglia' 7.00pm £19.80
SUMMARY;LANGUAGE=en-gb:Leo Middea
LOCATION:The Bullingdon, 162 Cowley Road, Oxford OX4 1UE
END:VEVENT
END:VCALENDAR
