BEGIN:VCALENDAR
VERSION:2.0
BEGIN:VEVENT
URL:https://www.dailyinfo.co.uk/events/293245/saving-the-world-careers-in-sustainability
DTSTART;VALUE=DATE:20260506
DESCRIPTION:Saving the World - Careers in Sustainability\n\n\nPlease register at 5.00-6.30pm Free
SUMMARY;LANGUAGE=en-gb:Saving the World - Careers in Sustainability
LOCATION:St Cross College, 61 St Giles, Oxford OX1 3LZ
END:VEVENT
END:VCALENDAR
