BEGIN:VCALENDAR
VERSION:2.0
BEGIN:VEVENT
URL:https://www.dailyinfo.co.uk/events/292042/england-in-the-17th-century-by-dr-jonathan-healey
DTSTART;VALUE=DATE:20260507
DESCRIPTION:England in the 17th Century - by Dr Jonathan Healey\n\n\nGiven by a specialist in this period. His recent book is about the months leading to the Civil War. 2 -3.15 PM oxford u3a - free, other u3a's - £2, visitors - £5
SUMMARY;LANGUAGE=en-gb:England in the 17th Century - by Dr Jonathan Healey
LOCATION:Oxford University Dept. of Continuing Education - Rewley House, Dept. of Continuing Education, 1 Wellington Square, Oxford OX1 2JA
END:VEVENT
END:VCALENDAR
