BEGIN:VCALENDAR
VERSION:2.0
BEGIN:VEVENT
URL:https://www.dailyinfo.co.uk/events/293573/organ-recital-chris-bragg
DTSTART;VALUE=DATE:20260507
DESCRIPTION:Organ Recital - Chris Bragg\n\n\nOrgan recital given by Chris Bragg on the Dobson organ 1.15pm Free
SUMMARY;LANGUAGE=en-gb:Organ Recital - Chris Bragg
LOCATION:Merton College Chapel, Merton Street, Oxford OX1 4JD
END:VEVENT
END:VCALENDAR
