BEGIN:VCALENDAR
VERSION:2.0
BEGIN:VEVENT
URL:https://www.dailyinfo.co.uk/events/293617/on-hegels-altogether-new-concept-of-scientific-procedure
DTSTART;VALUE=DATE:20260507
DESCRIPTION:On Hegel's 'altogether new concept of scientific procedure'\n\n\nTalk followed by questions and discussion. All welcome. 7.30–9.00pm Free
SUMMARY;LANGUAGE=en-gb:On Hegel's 'altogether new concept of scientific procedure'
LOCATION:Wesley Memorial Church, New Inn Hall Street, Oxford OX1 2DH
END:VEVENT
END:VCALENDAR
