BEGIN:VCALENDAR
VERSION:2.0
BEGIN:VEVENT
URL:https://www.dailyinfo.co.uk/events/289577/ali-woods-basher
DTSTART;VALUE=DATE:20260508
DESCRIPTION:Ali Woods: Basher\n\n\nStand-up comedy Doors open 6.45pm, last entry 7.15pm £19
SUMMARY;LANGUAGE=en-gb:Ali Woods: Basher
LOCATION:The Glee Club, The Bullingdon, 162 Cowley Rd, Oxford, OX4 1UE OX4 1UE
END:VEVENT
END:VCALENDAR
