BEGIN:VCALENDAR
VERSION:2.0
BEGIN:VEVENT
URL:https://www.dailyinfo.co.uk/events/291233/a-fusion-of-nature-and-landscape
DTSTART;VALUE=DATE:20260508
DESCRIPTION:A Fusion of Nature and Landscape\n\n\nArt and ceramics/sculpture exhibition in The Barn 10 to 6 pm Free Entry
SUMMARY;LANGUAGE=en-gb:A Fusion of Nature and Landscape
LOCATION:Braziers Park, Ipsden, Wallingford, Oxfordshire OX10 6AN
END:VEVENT
END:VCALENDAR
