BEGIN:VCALENDAR
VERSION:2.0
BEGIN:VEVENT
URL:https://www.dailyinfo.co.uk/events/291160/randb-lovers
DTSTART;VALUE=DATE:20260509
DESCRIPTION:R&B Lovers\n\n\nCelebration of 90's and 00's R&B 7.00pm-midnight From £22
SUMMARY;LANGUAGE=en-gb:R&B Lovers
LOCATION:O2 Academy Oxford, 190 Cowley Road, Oxford OX4 1UE
END:VEVENT
END:VCALENDAR
