BEGIN:VCALENDAR
VERSION:2.0
BEGIN:VEVENT
URL:https://www.dailyinfo.co.uk/events/292931/harcourt-arboretum-spring-fair
DTSTART;VALUE=DATE:20260509
DESCRIPTION:Harcourt Arboretum Spring Fair\n\n\nFamily-friendly celebration of spring with bluebells, creative workshops, local retail & great food. 10am - 4pm (Last entry 3pm) Prices listed on website
SUMMARY;LANGUAGE=en-gb:Harcourt Arboretum Spring Fair
LOCATION:Harcourt Arboretum, Nuneham Courtenay OX44 9PX
END:VEVENT
END:VCALENDAR
