BEGIN:VCALENDAR
VERSION:2.0
BEGIN:VEVENT
URL:https://www.dailyinfo.co.uk/events/289075/james-st-tavern-open-mic
DTSTART;VALUE=DATE:20260510
DESCRIPTION:James St Tavern Open Mic\n\n\nBeautiful Sunday afternoon Open Mic with a great stage/lights/acoustics.
Tophouse PA/guitar/keyboard 2.30pm Free
SUMMARY;LANGUAGE=en-gb:James St Tavern Open Mic
LOCATION:James Street Tavern, 47-48 James Street, Oxford OX4 1EU
END:VEVENT
END:VCALENDAR
