BEGIN:VCALENDAR
VERSION:2.0
BEGIN:VEVENT
URL:https://www.dailyinfo.co.uk/events/293161/choral-eucharist
DTSTART;VALUE=DATE:20260510
DESCRIPTION:Choral Eucharist\n\n\nA service of Choral Eucharist held in the beautiful chapel of Merton College. All welcome! 5.45pm Free
SUMMARY;LANGUAGE=en-gb:Choral Eucharist
LOCATION:Merton College Chapel, Merton Street, Oxford OX1 4JD
END:VEVENT
END:VCALENDAR
