BEGIN:VCALENDAR
VERSION:2.0
BEGIN:VEVENT
URL:https://www.dailyinfo.co.uk/events/293436/a-feather-on-the-breath-of-god-voice-trio
DTSTART;VALUE=DATE:20260510
DESCRIPTION:…a feather on the breath of God - VOICE trio\n\n\nA concert by Voice, female vocal trio, followerd by post-performance conversation with Dr Anna Beer 4pm £15/£12 Concessions/£5 Students
SUMMARY;LANGUAGE=en-gb:…a feather on the breath of God - VOICE trio
LOCATION:St Bartholomew's Chapel (Bartlemas Chapel), Off Cowley Road (in between Evelyn Court and Bartlemas Close), Oxford OX4 2AJ
END:VEVENT
END:VCALENDAR
