BEGIN:VCALENDAR
VERSION:2.0
BEGIN:VEVENT
URL:https://www.dailyinfo.co.uk/events/293591/messy-church
DTSTART;VALUE=DATE:20260510
DESCRIPTION:Messy Church\n\n\nCrafts + Activities + Games + Bible Stories + Food + Chat 3.00-4.30pm Free
SUMMARY;LANGUAGE=en-gb:Messy Church
LOCATION:Rose Hill Community Centre, Carole’s Way, Rose Hill, Oxford OX4 4HF
END:VEVENT
END:VCALENDAR
