BEGIN:VCALENDAR
VERSION:2.0
BEGIN:VEVENT
URL:https://www.dailyinfo.co.uk/events/291161/tide-lines
DTSTART;VALUE=DATE:20260511
DESCRIPTION:Tide Lines\n\n\nScottish folk-pop quartet promoting fourth album 'Glasgow Love Story' 7.00pm £28.40
SUMMARY;LANGUAGE=en-gb:Tide Lines
LOCATION:O2 Academy Oxford, 190 Cowley Road, Oxford OX4 1UE
END:VEVENT
END:VCALENDAR
