BEGIN:VCALENDAR
VERSION:2.0
BEGIN:VEVENT
URL:https://www.dailyinfo.co.uk/events/293160/choral-vespers
DTSTART;VALUE=DATE:20260511
DESCRIPTION:Choral Vespers\n\n\nA service of Choral Vespers held in the beautiful chapel of Merton College. All welcome! 6.00pm Free
SUMMARY;LANGUAGE=en-gb:Choral Vespers
LOCATION:Merton College Chapel, Merton Street, Oxford OX1 4JD
END:VEVENT
END:VCALENDAR
