BEGIN:VCALENDAR
VERSION:2.0
BEGIN:VEVENT
URL:https://www.dailyinfo.co.uk/events/293628/free-piano-recital-vusala-babayeva
DTSTART;VALUE=DATE:20260512
DESCRIPTION:Free Piano Recital: Vusala Babayeva\n\n\nVirtuoso pianist Vusala Babayeva interprets folkloric Azeri miniatures and romantic show-stoppers. 1.10-2.00pm Free
SUMMARY;LANGUAGE=en-gb:Free Piano Recital: Vusala Babayeva
LOCATION:Wesley Memorial Church, New Inn Hall Street, Oxford OX1 2DH
END:VEVENT
END:VCALENDAR
