BEGIN:VCALENDAR
VERSION:2.0
BEGIN:VEVENT
URL:https://www.dailyinfo.co.uk/events/293065/immersive-fiction-in-person
DTSTART;VALUE=DATE:20260513
DESCRIPTION:Immersive Fiction (in person)\n\n\nCreative writing for adults: Lively hands-on evening course to create richly immersive stories. 7pm–9:30pm £395 total for 8 weeks
SUMMARY;LANGUAGE=en-gb:Immersive Fiction (in person)
LOCATION:Upper Wolvercote, Oxford
END:VEVENT
END:VCALENDAR
