BEGIN:VCALENDAR
VERSION:2.0
BEGIN:VEVENT
URL:https://www.dailyinfo.co.uk/events/293509/what-about-exclusion
DTSTART;VALUE=DATE:20260513
DESCRIPTION:What about Exclusion?\n\n\nPublic discussion event as part of the series: Exclusion in the media. 5.00-6.30pm Free
SUMMARY;LANGUAGE=en-gb:What about Exclusion?
LOCATION:The Old Fire Station, 40 George Street, Oxford OX1 2AQ
END:VEVENT
END:VCALENDAR
