BEGIN:VCALENDAR
VERSION:2.0
BEGIN:VEVENT
URL:https://www.dailyinfo.co.uk/events/287843/an-evening-with-kae-tempest-and-guests
DTSTART;VALUE=DATE:20260514
DESCRIPTION:An Evening with Kae Tempest and guests\n\n\nA headline night of big truths and human connection, led by poet, rapper and storyteller Kae Tempest. 7pm from £15.40
SUMMARY;LANGUAGE=en-gb:An Evening with Kae Tempest and guests
LOCATION:Schwarzman Centre for the Humanities, Radcliffe Observatory Quarter, Woodstock Road, Oxford OX2 6GG
END:VEVENT
END:VCALENDAR
