BEGIN:VCALENDAR
VERSION:2.0
BEGIN:VEVENT
URL:https://www.dailyinfo.co.uk/events/291544/professor-elemental-mr-b-the-gentleman-rhymer-thomas-benjamin-wild-esq
DTSTART;VALUE=DATE:20260514
DESCRIPTION:Professor Elemental, Mr B The Gentleman Rhymer, Thomas Benjamin Wild Esq\n\n\nThe crown princes of Chap Hop on 'Bring The Joys' Tour 7.00pm £15
SUMMARY;LANGUAGE=en-gb:Professor Elemental, Mr B The Gentleman Rhymer, Thomas Benjamin Wild Esq
LOCATION:The Bullingdon, 162 Cowley Road, Oxford OX4 1UE
END:VEVENT
END:VCALENDAR
