BEGIN:VCALENDAR
VERSION:2.0
BEGIN:VEVENT
URL:https://www.dailyinfo.co.uk/events/292043/a-solo-walk-across-africa-by-fran-sandham
DTSTART;VALUE=DATE:20260514
DESCRIPTION:A Solo Walk across Africa - by Fran Sandham\n\n\nThis past editor of Rough Guides details his walk across the centre part of Africa from west to east 2 -3.15 PM oxford u3a - free, other u3a's - £2, visitors - £5
SUMMARY;LANGUAGE=en-gb:A Solo Walk across Africa - by Fran Sandham
LOCATION:Oxford University Dept. of Continuing Education - Rewley House, Dept. of Continuing Education, 1 Wellington Square, Oxford OX1 2JA
END:VEVENT
END:VCALENDAR
