BEGIN:VCALENDAR
VERSION:2.0
BEGIN:VEVENT
URL:https://www.dailyinfo.co.uk/events/293298/vanbrughs-garden-legacy-at-stowe
DTSTART;VALUE=DATE:20260514
DESCRIPTION:Vanbrugh's Garden Legacy at Stowe\n\n\nGarden historian Richard Wheeler explores Sir John Vanbrugh’s influence on Stowe's landscape gardens 6.00pm-7.30pm £3.50
SUMMARY;LANGUAGE=en-gb:Vanbrugh's Garden Legacy at Stowe
LOCATION:Stowe House, Buckingham, Buckinghamshire MK18 5EH
END:VEVENT
END:VCALENDAR
