BEGIN:VCALENDAR
VERSION:2.0
BEGIN:VEVENT
URL:https://www.dailyinfo.co.uk/events/293467/art-late-spring-2026
DTSTART;VALUE=DATE:20260514
DESCRIPTION:Art Late Spring 2026\n\n\nThe North Wall, Turrill Sculpture Garden, and Sarah Wiseman Gallery are collaborating once again. 5.30-7.30pm Free
SUMMARY;LANGUAGE=en-gb:Art Late Spring 2026
LOCATION:North Wall Arts Centre, South Parade, Oxford OX2 7NN
END:VEVENT
END:VCALENDAR
