BEGIN:VCALENDAR
VERSION:2.0
BEGIN:VEVENT
URL:https://www.dailyinfo.co.uk/events/293574/organ-recital-peter-king
DTSTART;VALUE=DATE:20260514
DESCRIPTION:Organ Recital - Peter King\n\n\nOrgan recital given by Peter King on the Dobson organ 1.15pm Free
SUMMARY;LANGUAGE=en-gb:Organ Recital - Peter King
LOCATION:Merton College Chapel, Merton Street, Oxford OX1 4JD
END:VEVENT
END:VCALENDAR
