BEGIN:VCALENDAR
VERSION:2.0
BEGIN:VEVENT
URL:https://www.dailyinfo.co.uk/events/290816/children-art-exhibition
DTSTART;VALUE=DATE:20260515
DESCRIPTION:Children art exhibition\n\n\nChildren art exhibition to support children in Kenya, Uganda and Lesotho through education 10 am to 5pm Free
SUMMARY;LANGUAGE=en-gb:Children art exhibition
LOCATION:Ashmolean Museum, Beaumont Street, Oxford OX1 2PH
END:VEVENT
END:VCALENDAR
