BEGIN:VCALENDAR
VERSION:2.0
BEGIN:VEVENT
URL:https://www.dailyinfo.co.uk/events/291162/pop-will-eat-itself
DTSTART;VALUE=DATE:20260515
DESCRIPTION:Pop Will Eat Itself\n\n\nAlt-rock veterans 6.30pm £33.15
SUMMARY;LANGUAGE=en-gb:Pop Will Eat Itself
LOCATION:O2 Academy Oxford, 190 Cowley Road, Oxford OX4 1UE
END:VEVENT
END:VCALENDAR
