BEGIN:VCALENDAR
VERSION:2.0
BEGIN:VEVENT
URL:https://www.dailyinfo.co.uk/events/291545/the-jamestown-brothers-restless-ocean
DTSTART;VALUE=DATE:20260515
DESCRIPTION:The Jamestown Brothers, Restless Ocean\n\n\nIndie folk-rock 7.00pm £10 (adv)
SUMMARY;LANGUAGE=en-gb:The Jamestown Brothers, Restless Ocean
LOCATION:The Bullingdon, 162 Cowley Road, Oxford OX4 1UE
END:VEVENT
END:VCALENDAR
