BEGIN:VCALENDAR
VERSION:2.0
BEGIN:VEVENT
URL:https://www.dailyinfo.co.uk/events/293094/japanese-tea-ceremony
DTSTART;VALUE=DATE:20260515
DESCRIPTION:Japanese Tea Ceremony\n\n\nThis is an opportunity to learn about the art of tea in Japan. Enjoy a bowl of matcha tea and watch a demonstration in the Ashmolean’s Japanese tea house.  £12
SUMMARY;LANGUAGE=en-gb:Japanese Tea Ceremony
LOCATION:Ashmolean Museum, Beaumont Street, Oxford OX1 2PH
END:VEVENT
END:VCALENDAR
