BEGIN:VCALENDAR
VERSION:2.0
BEGIN:VEVENT
URL:https://www.dailyinfo.co.uk/events/288091/the-revelators
DTSTART;VALUE=DATE:20260516
DESCRIPTION:The Revelators\n\n\nAn evening of soul, blues, rhythm & blues, classic rock, party hits and guilty pleasures with a programme of hipshakin', foot-tappin' live music including a selection of Blues Brothers and Rolling Stones material from their hit show 'Jumpin' Jake Flash'. 8.00pm
SUMMARY;LANGUAGE=en-gb:The Revelators
LOCATION:Marston Royal British Legion, Hadow Road, Marston, Oxford OX3 0JW
END:VEVENT
END:VCALENDAR
