BEGIN:VCALENDAR
VERSION:2.0
BEGIN:VEVENT
URL:https://www.dailyinfo.co.uk/events/291003/splendour-and-majesty-with-schola-cantorum-of-oxford-and-his-majestys-sagbutts
DTSTART;VALUE=DATE:20260516
DESCRIPTION:Splendour and Majesty with Schola Cantorum of Oxford and His Majestys Sagbutts\n\n\nThis is music from across the centuries; stately, skilful, and very much alive. 19:30 Ticket prices vary
SUMMARY;LANGUAGE=en-gb:Splendour and Majesty with Schola Cantorum of Oxford and His Majestys Sagbutts
LOCATION:Schwarzman Centre for the Humanities, Radcliffe Observatory Quarter, Woodstock Road, Oxford OX2 6GG
END:VEVENT
END:VCALENDAR
