BEGIN:VCALENDAR
VERSION:2.0
BEGIN:VEVENT
URL:https://www.dailyinfo.co.uk/events/293214/rossini-petite-messe-solennelle
DTSTART;VALUE=DATE:20260516
DESCRIPTION:Rossini: Petite Messe Solennelle\n\n\nAn evening of radiant choral music with soloists, piano and harmonium, full of springlike beauty. 7.30 pm to 9.45 pm £20 (under 18s free)
SUMMARY;LANGUAGE=en-gb:Rossini: Petite Messe Solennelle
LOCATION:St Andrew's Church (Summertown), Linton Road, Oxford OX2 6UG
END:VEVENT
END:VCALENDAR
