BEGIN:VCALENDAR
VERSION:2.0
BEGIN:VEVENT
URL:https://www.dailyinfo.co.uk/events/293300/drawing-iffley-church
DTSTART;VALUE=DATE:20260516
DESCRIPTION:Drawing Iffley Church\n\n\nA day school with Micah Hayns for amateur artists of all abilities at Iffley Church 10.30am-5.00pm £25.00 Students/concessions £11.00
SUMMARY;LANGUAGE=en-gb:Drawing Iffley Church
LOCATION:Iffley Church Hall, 101 Church Way, Iffley OX4 4EG
END:VEVENT
END:VCALENDAR
