BEGIN:VCALENDAR
VERSION:2.0
BEGIN:VEVENT
URL:https://www.dailyinfo.co.uk/events/293615/street-market-charity-sale
DTSTART;VALUE=DATE:20260516
DESCRIPTION:Street Market Charity sale\n\n\nAnnual street market to support Christian Aid. Sale of plants, cakes, toys, books. Snacks, lunches 10.00am-2.00pm Free
SUMMARY;LANGUAGE=en-gb:Street Market Charity sale
LOCATION:Wesley Memorial Church, New Inn Hall Street, Oxford OX1 2DH
END:VEVENT
END:VCALENDAR
