BEGIN:VCALENDAR
VERSION:2.0
BEGIN:VEVENT
URL:https://www.dailyinfo.co.uk/events/293095/plant-power-printing-workshop
DTSTART;VALUE=DATE:20260519
DESCRIPTION:Plant Power Printing Workshop\n\n\nWith Asma Hashmi, print artist. Using relief, stamp, and monoprint techniques, participants will create a series of prints inspired by the Museum’s botanical collections and plant histories. 10.30am - 4pm £125
SUMMARY;LANGUAGE=en-gb:Plant Power Printing Workshop
LOCATION:Ashmolean Museum, Beaumont Street, Oxford OX1 2PH
END:VEVENT
END:VCALENDAR
