BEGIN:VCALENDAR
VERSION:2.0
BEGIN:VEVENT
URL:https://www.dailyinfo.co.uk/events/293195/chinese-american-bear
DTSTART;VALUE=DATE:20260519
DESCRIPTION:Chinese American Bear\n\n\nC-pop duo from Seattle on 'Dim Sum And Then Some' tour 7.00pm £12.50
SUMMARY;LANGUAGE=en-gb:Chinese American Bear
LOCATION:The Jericho Tavern, 56 Walton Street, Oxford OX2 6AE
END:VEVENT
END:VCALENDAR
