BEGIN:VCALENDAR
VERSION:2.0
BEGIN:VEVENT
URL:https://www.dailyinfo.co.uk/events/293629/free-chamber-music-recital-latitude-trio-flute-cello-and-piano
DTSTART;VALUE=DATE:20260519
DESCRIPTION:Free Chamber Music Recital: Latitude Trio (Flute, cello, and piano)\n\n\nLatitude Trio interpret two mesmerising works for flute, cello, and piano by Goosens and Françaix. 1.10-2.00pm Free
SUMMARY;LANGUAGE=en-gb:Free Chamber Music Recital: Latitude Trio (Flute, cello, and piano)
LOCATION:Wesley Memorial Church, New Inn Hall Street, Oxford OX1 2DH
END:VEVENT
END:VCALENDAR
