BEGIN:VCALENDAR
VERSION:2.0
BEGIN:VEVENT
URL:https://www.dailyinfo.co.uk/events/293240/humour
DTSTART;VALUE=DATE:20260520
DESCRIPTION:Humour\n\n\n“Chaotic, Clever, and Unhinged” – NME
Glasgow Punks Humour play in Oxford. 7.30pm £12.50 adv (+booking fee)
SUMMARY;LANGUAGE=en-gb:Humour
LOCATION:The Jericho Tavern, 56 Walton Street, Oxford OX2 6AE
END:VEVENT
END:VCALENDAR
