BEGIN:VCALENDAR
VERSION:2.0
BEGIN:VEVENT
URL:https://www.dailyinfo.co.uk/events/292044/the-world-of-fungi-by-john-tyler
DTSTART;VALUE=DATE:20260521
DESCRIPTION:The World of Fungi - by John Tyler\n\n\nThis conservationist describes the diversity of the fungal kingdom and why it is so vital to life. 2 -3.15 PM oxford u3a - free, other u3a's - £2, visitors - £5
SUMMARY;LANGUAGE=en-gb:The World of Fungi - by John Tyler
LOCATION:Oxford University Dept. of Continuing Education - Rewley House, Dept. of Continuing Education, 1 Wellington Square, Oxford OX1 2JA
END:VEVENT
END:VCALENDAR
