BEGIN:VCALENDAR
VERSION:2.0
BEGIN:VEVENT
URL:https://www.dailyinfo.co.uk/events/293093/flowers-and-trees-in-ukrainian-art-talk
DTSTART;VALUE=DATE:20260521
DESCRIPTION:Flowers & Trees in Ukrainian Art Talk\n\n\nWith Dr Louise Hardiman, art historian and academic 2 - 3pm £8
SUMMARY;LANGUAGE=en-gb:Flowers & Trees in Ukrainian Art Talk
LOCATION:Ashmolean Museum, Beaumont Street, Oxford OX1 2PH
END:VEVENT
END:VCALENDAR
