BEGIN:VCALENDAR
VERSION:2.0
BEGIN:VEVENT
URL:https://www.dailyinfo.co.uk/events/293575/organ-recital-marcus-mcdevitt
DTSTART;VALUE=DATE:20260521
DESCRIPTION:Organ Recital - Marcus McDevitt\n\n\nOrgan recital given by Marcus McDevitt on the Dobson organ 1.15pm Free
SUMMARY;LANGUAGE=en-gb:Organ Recital - Marcus McDevitt
LOCATION:Merton College Chapel, Merton Street, Oxford OX1 4JD
END:VEVENT
END:VCALENDAR
